BEGIN:VCALENDAR
VERSION:2.0
PRODID:-// - ECPv6.15.20//NONSGML v1.0//EN
CALSCALE:GREGORIAN
METHOD:PUBLISH
X-ORIGINAL-URL:https://kripafoundationiyengaryoga.com
X-WR-CALDESC:Events for 
REFRESH-INTERVAL;VALUE=DURATION:PT1H
X-Robots-Tag:noindex
X-PUBLISHED-TTL:PT1H
BEGIN:VTIMEZONE
TZID:UTC
BEGIN:STANDARD
TZOFFSETFROM:+0000
TZOFFSETTO:+0000
TZNAME:UTC
DTSTART:20250101T000000
END:STANDARD
END:VTIMEZONE
BEGIN:VEVENT
DTSTART;TZID=UTC:20260122T090000
DTEND;TZID=UTC:20260125T170000
DTSTAMP:20260423T203302
CREATED:20250820T194655Z
LAST-MODIFIED:20250820T194655Z
UID:2549-1769072400-1769360400@kripafoundationiyengaryoga.com
SUMMARY:Fr. Joe’s Orientation in Goa
DESCRIPTION:
URL:https://kripafoundationiyengaryoga.com/event/fr-joes-orientation-in-goa/
LOCATION:Iyengar Yoga Workshop in Goa\, Goa\, Goa\, Goa\, 403001\, India
CATEGORIES:Goa
ATTACH;FMTTYPE=image/png:https://kripafoundationiyengaryoga.com/wp-content/uploads/2023/08/Kripa-Foundation-Yoga.png
END:VEVENT
BEGIN:VEVENT
DTSTART;TZID=UTC:20260115T090000
DTEND;TZID=UTC:20260121T170000
DTSTAMP:20260423T203302
CREATED:20250820T194552Z
LAST-MODIFIED:20250820T194714Z
UID:2547-1768467600-1769014800@kripafoundationiyengaryoga.com
SUMMARY:Fr. Joe’s Workshop in Goa
DESCRIPTION:
URL:https://kripafoundationiyengaryoga.com/event/fr-joes-workshop-in-goa/
LOCATION:Iyengar Yoga Workshop in Goa\, Goa\, Goa\, Goa\, 403001\, India
CATEGORIES:Goa
ATTACH;FMTTYPE=image/png:https://kripafoundationiyengaryoga.com/wp-content/uploads/2023/08/Kripa-Foundation-Yoga.png
END:VEVENT
BEGIN:VEVENT
DTSTART;TZID=UTC:20260111T090000
DTEND;TZID=UTC:20260114T170000
DTSTAMP:20260423T203302
CREATED:20250820T194503Z
LAST-MODIFIED:20250820T194853Z
UID:2545-1768122000-1768410000@kripafoundationiyengaryoga.com
SUMMARY:Iyengar Yoga & Christianity Conference
DESCRIPTION:
URL:https://kripafoundationiyengaryoga.com/event/iyengar-yoga-christianity-conference/
LOCATION:Iyengar Yoga Workshop in Goa\, Goa\, Goa\, Goa\, 403001\, India
CATEGORIES:Goa
ATTACH;FMTTYPE=image/png:https://kripafoundationiyengaryoga.com/wp-content/uploads/2023/08/Kripa-Foundation-Yoga.png
END:VEVENT
BEGIN:VEVENT
DTSTART;TZID=UTC:20260104T090000
DTEND;TZID=UTC:20260110T170000
DTSTAMP:20260423T203302
CREATED:20250820T193745Z
LAST-MODIFIED:20250929T173252Z
UID:2538-1767517200-1768064400@kripafoundationiyengaryoga.com
SUMMARY:Iyengar Yoga Workshop
DESCRIPTION:
URL:https://kripafoundationiyengaryoga.com/event/iyengar-yoga-workshop/
LOCATION:Iyengar Yoga Workshop in Goa\, Goa\, Goa\, Goa\, 403001\, India
CATEGORIES:Goa
ATTACH;FMTTYPE=image/png:https://kripafoundationiyengaryoga.com/wp-content/uploads/2023/08/Kripa-Foundation-Yoga.png
END:VEVENT
END:VCALENDAR